Package: ProtGenerics Version: 1.40.0 Command: /home/biocbuild/bbs-3.21-bioc/R/bin/R CMD check --install=check:ProtGenerics.install-out.txt --library=/home/biocbuild/bbs-3.21-bioc/R/site-library --timings ProtGenerics_1.40.0.tar.gz StartedAt: 2025-10-16 02:27:22 -0400 (Thu, 16 Oct 2025) EndedAt: 2025-10-16 02:27:40 -0400 (Thu, 16 Oct 2025) EllapsedTime: 18.0 seconds RetCode: 0 Status: OK CheckDir: ProtGenerics.Rcheck Warnings: 0