Package: ProtGenerics Version: 1.40.0 Command: /home/biocbuild/R/R/bin/R CMD INSTALL ProtGenerics StartedAt: 2025-10-13 20:12:59 -0000 (Mon, 13 Oct 2025) EndedAt: 2025-10-13 20:13:19 -0000 (Mon, 13 Oct 2025) EllapsedTime: 20.2 seconds RetCode: 0 Status: OK