Package: ProtGenerics Version: 1.40.0 Command: /home/biocbuild/R/R/bin/R CMD check --install=check:ProtGenerics.install-out.txt --library=/home/biocbuild/R/R/site-library --no-vignettes --timings ProtGenerics_1.40.0.tar.gz StartedAt: 2025-10-14 12:49:44 -0000 (Tue, 14 Oct 2025) EndedAt: 2025-10-14 12:50:03 -0000 (Tue, 14 Oct 2025) EllapsedTime: 19.0 seconds RetCode: 0 Status: OK CheckDir: ProtGenerics.Rcheck Warnings: 0