Package: ProtGenerics Version: 1.40.0 Command: /home/biocbuild/R/R/bin/R CMD build --keep-empty-dirs --no-resave-data ProtGenerics StartedAt: 2025-10-14 03:42:23 -0000 (Tue, 14 Oct 2025) EndedAt: 2025-10-14 03:42:24 -0000 (Tue, 14 Oct 2025) EllapsedTime: 1.0 seconds RetCode: 0 Status: OK PackageFile: ProtGenerics_1.40.0.tar.gz PackageFileSize: 10.89 KiB