Package: Prostar Version: 1.40.0 Command: /home/biocbuild/bbs-3.21-bioc/R/bin/R CMD INSTALL Prostar StartedAt: 2025-10-15 15:37:26 -0400 (Wed, 15 Oct 2025) EndedAt: 2025-10-15 15:38:06 -0400 (Wed, 15 Oct 2025) EllapsedTime: 39.9 seconds RetCode: 0 Status: OK