Package: Prostar Version: 1.40.0 Command: /home/biocbuild/bbs-3.21-bioc/R/bin/R CMD check --install=check:Prostar.install-out.txt --library=/home/biocbuild/bbs-3.21-bioc/R/site-library --timings Prostar_1.40.0.tar.gz StartedAt: 2025-10-16 02:26:57 -0400 (Thu, 16 Oct 2025) EndedAt: 2025-10-16 02:31:25 -0400 (Thu, 16 Oct 2025) EllapsedTime: 268.4 seconds RetCode: 0 Status: WARNINGS CheckDir: Prostar.Rcheck Warnings: 1