Package: Prostar Version: 1.40.0 Command: /Library/Frameworks/R.framework/Resources/bin/R CMD INSTALL Prostar StartedAt: 2025-10-13 16:16:28 -0400 (Mon, 13 Oct 2025) EndedAt: 2025-10-13 16:17:52 -0400 (Mon, 13 Oct 2025) EllapsedTime: 83.6 seconds RetCode: 0 Status: OK