Package: Prostar Version: 1.40.0 Command: /Library/Frameworks/R.framework/Resources/bin/R CMD INSTALL Prostar StartedAt: 2025-04-21 15:35:23 -0400 (Mon, 21 Apr 2025) EndedAt: 2025-04-21 15:36:17 -0400 (Mon, 21 Apr 2025) EllapsedTime: 54.5 seconds RetCode: 0 Status: OK