Package: Prostar Version: 1.40.0 Command: /home/biocbuild/R/R/bin/R CMD INSTALL Prostar StartedAt: 2025-10-13 20:58:37 -0000 (Mon, 13 Oct 2025) EndedAt: 2025-10-13 20:59:35 -0000 (Mon, 13 Oct 2025) EllapsedTime: 57.7 seconds RetCode: 0 Status: OK