Package: Prostar Version: 1.40.0 Command: /home/biocbuild/R/R/bin/R CMD check --install=check:Prostar.install-out.txt --library=/home/biocbuild/R/R/site-library --no-vignettes --timings Prostar_1.40.0.tar.gz StartedAt: 2025-10-14 12:48:11 -0000 (Tue, 14 Oct 2025) EndedAt: 2025-10-14 12:54:13 -0000 (Tue, 14 Oct 2025) EllapsedTime: 362.3 seconds RetCode: 0 Status: WARNINGS CheckDir: Prostar.Rcheck Warnings: 1