Package: Prostar Version: 1.40.0 Command: /Library/Frameworks/R.framework/Resources/bin/R CMD INSTALL Prostar StartedAt: 2025-10-13 17:06:22 -0400 (Mon, 13 Oct 2025) EndedAt: 2025-10-13 17:07:10 -0400 (Mon, 13 Oct 2025) EllapsedTime: 47.8 seconds RetCode: 0 Status: OK