Package: Prostar Version: 1.40.0 Command: /Library/Frameworks/R.framework/Resources/bin/R CMD check --install=check:Prostar.install-out.txt --library=/Library/Frameworks/R.framework/Resources/library --no-vignettes --timings Prostar_1.40.0.tar.gz StartedAt: 2025-10-15 08:17:09 -0400 (Wed, 15 Oct 2025) EndedAt: 2025-10-15 08:22:18 -0400 (Wed, 15 Oct 2025) EllapsedTime: 309.1 seconds RetCode: 0 Status: WARNINGS CheckDir: Prostar.Rcheck Warnings: 1