Package: Prostar Version: 1.40.0 Command: rm -rf Prostar.buildbin-libdir && mkdir Prostar.buildbin-libdir && /Users/biocbuild/BBS/utils/build-universal.sh Prostar_1.40.0.tar.gz /Library/Frameworks/R.framework/Resources/bin/R Prostar.buildbin-libdir StartedAt: 2025-10-15 19:52:43 -0400 (Wed, 15 Oct 2025) EndedAt: 2025-10-15 19:53:36 -0400 (Wed, 15 Oct 2025) EllapsedTime: 53.5 seconds RetCode: 0 Status: OK PackageFile: Prostar_1.40.0.tgz PackageFileSize: 1.562 MiB