Package: Polytect Version: 1.0.0 Command: /home/biocbuild/bbs-3.21-bioc/R/bin/R CMD build --keep-empty-dirs --no-resave-data Polytect StartedAt: 2025-10-15 19:11:16 -0400 (Wed, 15 Oct 2025) EndedAt: 2025-10-15 19:12:37 -0400 (Wed, 15 Oct 2025) EllapsedTime: 81.1 seconds RetCode: 0 Status: OK PackageFile: Polytect_1.0.0.tar.gz PackageFileSize: 2.198 MiB