Package: Polytect Version: 1.0.0 Command: /Library/Frameworks/R.framework/Resources/bin/R CMD INSTALL Polytect StartedAt: 2025-10-13 15:18:58 -0400 (Mon, 13 Oct 2025) EndedAt: 2025-10-13 15:19:40 -0400 (Mon, 13 Oct 2025) EllapsedTime: 41.9 seconds RetCode: 0 Status: OK