Package: Polytect Version: 1.0.0 Command: /Library/Frameworks/R.framework/Resources/bin/R CMD check --install=check:Polytect.install-out.txt --library=/Library/Frameworks/R.framework/Resources/library --no-vignettes --timings Polytect_1.0.0.tar.gz StartedAt: 2025-10-14 08:21:54 -0400 (Tue, 14 Oct 2025) EndedAt: 2025-10-14 08:25:39 -0400 (Tue, 14 Oct 2025) EllapsedTime: 225.7 seconds RetCode: 0 Status: OK CheckDir: Polytect.Rcheck Warnings: 0