Package: Polytect Version: 1.0.0 Command: rm -rf Polytect.buildbin-libdir && mkdir Polytect.buildbin-libdir && /Users/biocbuild/BBS/utils/build-universal.sh Polytect_1.0.0.tar.gz /Library/Frameworks/R.framework/Resources/bin/R Polytect.buildbin-libdir StartedAt: 2025-10-14 14:24:12 -0400 (Tue, 14 Oct 2025) EndedAt: 2025-10-14 14:24:41 -0400 (Tue, 14 Oct 2025) EllapsedTime: 28.9 seconds RetCode: 0 Status: OK PackageFile: Polytect_1.0.0.tgz PackageFileSize: 2.205 MiB