Package: Polytect Version: 1.0.0 Command: /Library/Frameworks/R.framework/Resources/bin/R CMD check --install=check:Polytect.install-out.txt --library=/Library/Frameworks/R.framework/Resources/library --no-vignettes --timings Polytect_1.0.0.tar.gz StartedAt: 2025-04-21 22:42:08 -0400 (Mon, 21 Apr 2025) EndedAt: 2025-04-21 22:43:57 -0400 (Mon, 21 Apr 2025) EllapsedTime: 108.9 seconds RetCode: 0 Status: OK CheckDir: Polytect.Rcheck Warnings: 0