Package: Polytect Version: 1.0.0 Command: /home/biocbuild/R/R/bin/R CMD check --install=check:Polytect.install-out.txt --library=/home/biocbuild/R/R/site-library --no-vignettes --timings Polytect_1.0.0.tar.gz StartedAt: 2025-10-14 12:39:07 -0000 (Tue, 14 Oct 2025) EndedAt: 2025-10-14 12:41:20 -0000 (Tue, 14 Oct 2025) EllapsedTime: 133.1 seconds RetCode: 0 Status: OK CheckDir: Polytect.Rcheck Warnings: 0