Package: PoDCall Version: 1.16.0 Command: chmod a+r PoDCall -R && E:\biocbuild\bbs-3.21-bioc\R\bin\R.exe CMD build --keep-empty-dirs --no-resave-data PoDCall StartedAt: 2025-08-14 21:21:33 -0400 (Thu, 14 Aug 2025) EndedAt: 2025-08-14 21:24:35 -0400 (Thu, 14 Aug 2025) EllapsedTime: 181.5 seconds RetCode: 0 Status: OK PackageFile: PoDCall_1.16.0.tar.gz PackageFileSize: 2.013 MiB