Package: PoDCall Version: 1.16.0 Command: rm -rf PoDCall.buildbin-libdir && mkdir PoDCall.buildbin-libdir && E:\biocbuild\bbs-3.21-bioc\R\bin\R.exe CMD INSTALL --build --library=PoDCall.buildbin-libdir PoDCall_1.16.0.tar.gz StartedAt: 2025-08-15 09:57:45 -0400 (Fri, 15 Aug 2025) EndedAt: 2025-08-15 09:57:59 -0400 (Fri, 15 Aug 2025) EllapsedTime: 14.5 seconds RetCode: 0 Status: OK PackageFile: PoDCall_1.16.0.zip PackageFileSize: 1.163 MiB