Package: PoDCall Version: 1.16.0 Command: /home/biocbuild/bbs-3.21-bioc/R/bin/R CMD check --install=check:PoDCall.install-out.txt --library=/home/biocbuild/bbs-3.21-bioc/R/site-library --timings PoDCall_1.16.0.tar.gz StartedAt: 2025-10-16 02:17:17 -0400 (Thu, 16 Oct 2025) EndedAt: 2025-10-16 02:27:15 -0400 (Thu, 16 Oct 2025) EllapsedTime: 597.7 seconds RetCode: 0 Status: OK CheckDir: PoDCall.Rcheck Warnings: 0