Package: PoDCall Version: 1.16.0 Command: /home/biocbuild/bbs-3.21-bioc/R/bin/R CMD build --keep-empty-dirs --no-resave-data PoDCall StartedAt: 2025-10-15 19:10:53 -0400 (Wed, 15 Oct 2025) EndedAt: 2025-10-15 19:11:13 -0400 (Wed, 15 Oct 2025) EllapsedTime: 20.0 seconds RetCode: 0 Status: OK PackageFile: PoDCall_1.16.0.tar.gz PackageFileSize: 3.01 MiB