Package: PoDCall Version: 1.16.0 Command: /home/biocbuild/R/R/bin/R CMD build --keep-empty-dirs --no-resave-data PoDCall StartedAt: 2025-10-14 03:35:06 -0000 (Tue, 14 Oct 2025) EndedAt: 2025-10-14 03:35:32 -0000 (Tue, 14 Oct 2025) EllapsedTime: 26.0 seconds RetCode: 0 Status: OK PackageFile: PoDCall_1.16.0.tar.gz PackageFileSize: 3.02 MiB