Package: Pirat Version: 1.2.6 Command: /Library/Frameworks/R.framework/Resources/bin/R CMD check --install=check:Pirat.install-out.txt --library=/Library/Frameworks/R.framework/Resources/library --no-vignettes --timings Pirat_1.2.6.tar.gz StartedAt: 2025-10-15 07:39:46 -0400 (Wed, 15 Oct 2025) EndedAt: 2025-10-15 07:44:20 -0400 (Wed, 15 Oct 2025) EllapsedTime: 273.4 seconds RetCode: 0 Status: OK CheckDir: Pirat.Rcheck Warnings: 0