Package: Pirat Version: 1.2.6 Command: rm -rf Pirat.buildbin-libdir && mkdir Pirat.buildbin-libdir && /Users/biocbuild/BBS/utils/build-universal.sh Pirat_1.2.6.tar.gz /Library/Frameworks/R.framework/Resources/bin/R Pirat.buildbin-libdir StartedAt: 2025-10-15 19:47:51 -0400 (Wed, 15 Oct 2025) EndedAt: 2025-10-15 19:48:16 -0400 (Wed, 15 Oct 2025) EllapsedTime: 25.6 seconds RetCode: 0 Status: OK PackageFile: Pirat_1.2.6.tgz PackageFileSize: 2.687 MiB