Package: PhyloProfile Version: 2.0.6 Command: /home/biocbuild/bbs-3.21-bioc/R/bin/R CMD build --keep-empty-dirs --no-resave-data PhyloProfile StartedAt: 2025-10-15 19:08:51 -0400 (Wed, 15 Oct 2025) EndedAt: 2025-10-15 19:09:28 -0400 (Wed, 15 Oct 2025) EllapsedTime: 37.0 seconds RetCode: 0 Status: OK PackageFile: PhyloProfile_2.0.6.tar.gz PackageFileSize: 1.427 MiB