Package: PhenoGeneRanker Version: 1.16.0 Command: rm -rf PhenoGeneRanker.buildbin-libdir && mkdir PhenoGeneRanker.buildbin-libdir && E:\biocbuild\bbs-3.21-bioc\R\bin\R.exe CMD INSTALL --build --library=PhenoGeneRanker.buildbin-libdir PhenoGeneRanker_1.16.0.tar.gz StartedAt: 2025-08-15 09:56:07 -0400 (Fri, 15 Aug 2025) EndedAt: 2025-08-15 09:57:11 -0400 (Fri, 15 Aug 2025) EllapsedTime: 63.3 seconds RetCode: 0 Status: OK PackageFile: PhenoGeneRanker_1.16.0.zip PackageFileSize: 86.17 KiB