Package: PhenoGeneRanker Version: 1.16.0 Command: /home/biocbuild/bbs-3.21-bioc/R/bin/R CMD build --keep-empty-dirs --no-resave-data PhenoGeneRanker StartedAt: 2025-10-15 19:07:46 -0400 (Wed, 15 Oct 2025) EndedAt: 2025-10-15 19:14:12 -0400 (Wed, 15 Oct 2025) EllapsedTime: 386.4 seconds RetCode: 0 Status: OK PackageFile: PhenoGeneRanker_1.16.0.tar.gz PackageFileSize: 28.08 KiB