Package: PhenoGeneRanker Version: 1.16.0 Command: /home/biocbuild/R/R/bin/R CMD check --install=check:PhenoGeneRanker.install-out.txt --library=/home/biocbuild/R/R/site-library --no-vignettes --timings PhenoGeneRanker_1.16.0.tar.gz StartedAt: 2025-10-14 12:29:32 -0000 (Tue, 14 Oct 2025) EndedAt: 2025-10-14 12:31:24 -0000 (Tue, 14 Oct 2025) EllapsedTime: 112.1 seconds RetCode: 0 Status: OK CheckDir: PhenoGeneRanker.Rcheck Warnings: 0