Package: PhenoGeneRanker Version: 1.16.0 Command: /Library/Frameworks/R.framework/Resources/bin/R CMD check --install=check:PhenoGeneRanker.install-out.txt --library=/Library/Frameworks/R.framework/Resources/library --no-vignettes --timings PhenoGeneRanker_1.16.0.tar.gz StartedAt: 2025-10-15 07:27:03 -0400 (Wed, 15 Oct 2025) EndedAt: 2025-10-15 07:28:42 -0400 (Wed, 15 Oct 2025) EllapsedTime: 99.1 seconds RetCode: 0 Status: OK CheckDir: PhenoGeneRanker.Rcheck Warnings: 0