Package: PhenStat Version: 2.44.0 Command: rm -rf PhenStat.buildbin-libdir && mkdir PhenStat.buildbin-libdir && /Users/biocbuild/BBS/utils/build-universal.sh PhenStat_2.44.0.tar.gz /Library/Frameworks/R.framework/Resources/bin/R PhenStat.buildbin-libdir StartedAt: 2025-06-13 14:31:29 -0400 (Fri, 13 Jun 2025) EndedAt: 2025-06-13 14:32:24 -0400 (Fri, 13 Jun 2025) EllapsedTime: 54.3 seconds RetCode: 0 Status: OK PackageFile: PhenStat_2.44.0.tgz PackageFileSize: 1.255 MiB