Package: PhenStat Version: 2.44.0 Command: /Library/Frameworks/R.framework/Resources/bin/R CMD INSTALL PhenStat StartedAt: 2025-04-21 15:12:13 -0400 (Mon, 21 Apr 2025) EndedAt: 2025-04-21 15:12:36 -0400 (Mon, 21 Apr 2025) EllapsedTime: 23.3 seconds RetCode: 0 Status: OK