Package: Pedixplorer Version: 1.4.0 Command: E:\biocbuild\bbs-3.21-bioc\R\bin\R.exe CMD INSTALL Pedixplorer StartedAt: 2025-08-14 15:41:38 -0400 (Thu, 14 Aug 2025) EndedAt: 2025-08-14 15:45:20 -0400 (Thu, 14 Aug 2025) EllapsedTime: 221.1 seconds RetCode: 0 Status: OK