Package: Pedixplorer Version: 1.4.0 Command: rm -rf Pedixplorer.buildbin-libdir && mkdir Pedixplorer.buildbin-libdir && E:\biocbuild\bbs-3.21-bioc\R\bin\R.exe CMD INSTALL --build --library=Pedixplorer.buildbin-libdir Pedixplorer_1.4.0.tar.gz StartedAt: 2025-08-15 09:55:29 -0400 (Fri, 15 Aug 2025) EndedAt: 2025-08-15 09:59:07 -0400 (Fri, 15 Aug 2025) EllapsedTime: 217.6 seconds RetCode: 0 Status: OK PackageFile: Pedixplorer_1.4.0.zip PackageFileSize: 4.271 MiB