Package: Pedixplorer Version: 1.4.0 Command: /home/biocbuild/bbs-3.21-bioc/R/bin/R CMD check --install=check:Pedixplorer.install-out.txt --library=/home/biocbuild/bbs-3.21-bioc/R/site-library --timings Pedixplorer_1.4.0.tar.gz StartedAt: 2025-10-16 02:07:39 -0400 (Thu, 16 Oct 2025) EndedAt: 2025-10-16 02:12:01 -0400 (Thu, 16 Oct 2025) EllapsedTime: 262.3 seconds RetCode: 0 Status: OK CheckDir: Pedixplorer.Rcheck Warnings: 0