Package: Pedixplorer Version: 1.4.0 Command: /Library/Frameworks/R.framework/Resources/bin/R CMD INSTALL Pedixplorer StartedAt: 2025-10-13 15:23:05 -0400 (Mon, 13 Oct 2025) EndedAt: 2025-10-13 15:23:50 -0400 (Mon, 13 Oct 2025) EllapsedTime: 45.3 seconds RetCode: 0 Status: OK