Package: Pedixplorer Version: 1.4.0 Command: /Library/Frameworks/R.framework/Resources/bin/R CMD build --keep-empty-dirs --no-resave-data Pedixplorer StartedAt: 2025-10-13 21:29:07 -0400 (Mon, 13 Oct 2025) EndedAt: 2025-10-13 21:32:51 -0400 (Mon, 13 Oct 2025) EllapsedTime: 224.2 seconds RetCode: 0 Status: OK PackageFile: Pedixplorer_1.4.0.tar.gz PackageFileSize: 5.532 MiB