Package: Pedixplorer Version: 1.4.0 Command: /Library/Frameworks/R.framework/Resources/bin/R CMD check --install=check:Pedixplorer.install-out.txt --library=/Library/Frameworks/R.framework/Resources/library --no-vignettes --timings Pedixplorer_1.4.0.tar.gz StartedAt: 2025-04-21 20:51:54 -0400 (Mon, 21 Apr 2025) EndedAt: 2025-04-21 20:52:57 -0400 (Mon, 21 Apr 2025) EllapsedTime: 63.8 seconds RetCode: 0 Status: OK CheckDir: Pedixplorer.Rcheck Warnings: 0