Package: Path2PPI Version: 1.38.0 Command: /home/biocbuild/bbs-3.21-bioc/R/bin/R CMD build --keep-empty-dirs --no-resave-data Path2PPI StartedAt: 2025-10-15 19:04:21 -0400 (Wed, 15 Oct 2025) EndedAt: 2025-10-15 19:04:33 -0400 (Wed, 15 Oct 2025) EllapsedTime: 12.0 seconds RetCode: 0 Status: OK PackageFile: Path2PPI_1.38.0.tar.gz PackageFileSize: 1.426 MiB