Package: Path2PPI Version: 1.38.0 Command: /home/biocbuild/R/R/bin/R CMD check --install=check:Path2PPI.install-out.txt --library=/home/biocbuild/R/R/site-library --no-vignettes --timings Path2PPI_1.38.0.tar.gz StartedAt: 2025-10-14 12:22:58 -0000 (Tue, 14 Oct 2025) EndedAt: 2025-10-14 12:24:23 -0000 (Tue, 14 Oct 2025) EllapsedTime: 85.1 seconds RetCode: 0 Status: OK CheckDir: Path2PPI.Rcheck Warnings: 0