Package: Path2PPI Version: 1.38.0 Command: /home/biocbuild/R/R/bin/R CMD build --keep-empty-dirs --no-resave-data Path2PPI StartedAt: 2025-10-14 03:24:36 -0000 (Tue, 14 Oct 2025) EndedAt: 2025-10-14 03:24:53 -0000 (Tue, 14 Oct 2025) EllapsedTime: 17.0 seconds RetCode: 0 Status: OK PackageFile: Path2PPI_1.38.0.tar.gz PackageFileSize: 1.416 MiB