Package: Path2PPI Version: 1.38.0 Command: /Library/Frameworks/R.framework/Resources/bin/R CMD check --install=check:Path2PPI.install-out.txt --library=/Library/Frameworks/R.framework/Resources/library --no-vignettes --timings Path2PPI_1.38.0.tar.gz StartedAt: 2025-04-21 20:49:41 -0400 (Mon, 21 Apr 2025) EndedAt: 2025-04-21 20:50:02 -0400 (Mon, 21 Apr 2025) EllapsedTime: 21.3 seconds RetCode: 0 Status: OK CheckDir: Path2PPI.Rcheck Warnings: 0