Package: PanomiR Version: 1.12.0 Command: /home/biocbuild/R/R/bin/R CMD check --install=check:PanomiR.install-out.txt --library=/home/biocbuild/R/R/site-library --no-vignettes --timings PanomiR_1.12.0.tar.gz StartedAt: 2025-10-14 12:21:40 -0000 (Tue, 14 Oct 2025) EndedAt: 2025-10-14 12:23:10 -0000 (Tue, 14 Oct 2025) EllapsedTime: 90.3 seconds RetCode: 0 Status: OK CheckDir: PanomiR.Rcheck Warnings: 0