Package: PanomiR Version: 1.12.0 Command: /home/biocbuild/R/R/bin/R CMD build --keep-empty-dirs --no-resave-data PanomiR StartedAt: 2025-10-14 03:23:24 -0000 (Tue, 14 Oct 2025) EndedAt: 2025-10-14 03:24:00 -0000 (Tue, 14 Oct 2025) EllapsedTime: 36.1 seconds RetCode: 0 Status: OK PackageFile: PanomiR_1.12.0.tar.gz PackageFileSize: 2.005 MiB