Package: PanViz Version: 1.10.0 Command: chmod a+r PanViz -R && E:\biocbuild\bbs-3.21-bioc\R\bin\R.exe CMD build --keep-empty-dirs --no-resave-data PanViz StartedAt: 2025-08-14 21:08:32 -0400 (Thu, 14 Aug 2025) EndedAt: 2025-08-14 21:08:36 -0400 (Thu, 14 Aug 2025) EllapsedTime: 3.8 seconds RetCode: 1 Status: ERROR PackageFile: None PackageFileSize: NA