Package: PanViz Version: 1.10.0 Command: /home/biocbuild/bbs-3.21-bioc/R/bin/R CMD INSTALL PanViz StartedAt: 2025-10-15 16:06:40 -0400 (Wed, 15 Oct 2025) EndedAt: 2025-10-15 16:06:40 -0400 (Wed, 15 Oct 2025) EllapsedTime: 0.3 seconds RetCode: 1 Status: ERROR