Package: PanViz Version: 1.10.0 Command: /home/biocbuild/bbs-3.21-bioc/R/bin/R CMD build --keep-empty-dirs --no-resave-data PanViz StartedAt: 2025-10-15 19:03:56 -0400 (Wed, 15 Oct 2025) EndedAt: 2025-10-15 19:03:57 -0400 (Wed, 15 Oct 2025) EllapsedTime: 1.0 seconds RetCode: 1 Status: ERROR PackageFile: None PackageFileSize: NA