Package: PanViz Version: 1.10.0 Command: /Library/Frameworks/R.framework/Resources/bin/R CMD INSTALL PanViz StartedAt: 2025-10-13 16:57:59 -0400 (Mon, 13 Oct 2025) EndedAt: 2025-10-13 16:58:00 -0400 (Mon, 13 Oct 2025) EllapsedTime: 0.3 seconds RetCode: 1 Status: ERROR