Package: PanViz Version: 1.10.0 Command: /Library/Frameworks/R.framework/Resources/bin/R CMD build --keep-empty-dirs --no-resave-data PanViz StartedAt: 2025-10-13 21:23:59 -0400 (Mon, 13 Oct 2025) EndedAt: 2025-10-13 21:24:02 -0400 (Mon, 13 Oct 2025) EllapsedTime: 3.1 seconds RetCode: 1 Status: ERROR PackageFile: None PackageFileSize: NA